BEGIN:VCALENDAR
VERSION:2.0
PRODID:-//South Carolina Genealogical Society, Inc. - ECPv6.15.17//NONSGML v1.0//EN
CALSCALE:GREGORIAN
METHOD:PUBLISH
X-ORIGINAL-URL:https://www.scgen.org
X-WR-CALDESC:Events for South Carolina Genealogical Society, Inc.
REFRESH-INTERVAL;VALUE=DURATION:PT1H
X-Robots-Tag:noindex
X-PUBLISHED-TTL:PT1H
BEGIN:VTIMEZONE
TZID:America/New_York
BEGIN:DAYLIGHT
TZOFFSETFROM:-0500
TZOFFSETTO:-0400
TZNAME:EDT
DTSTART:20230312T070000
END:DAYLIGHT
BEGIN:STANDARD
TZOFFSETFROM:-0400
TZOFFSETTO:-0500
TZNAME:EST
DTSTART:20231105T060000
END:STANDARD
BEGIN:DAYLIGHT
TZOFFSETFROM:-0500
TZOFFSETTO:-0400
TZNAME:EDT
DTSTART:20240310T070000
END:DAYLIGHT
BEGIN:STANDARD
TZOFFSETFROM:-0400
TZOFFSETTO:-0500
TZNAME:EST
DTSTART:20241103T060000
END:STANDARD
BEGIN:DAYLIGHT
TZOFFSETFROM:-0500
TZOFFSETTO:-0400
TZNAME:EDT
DTSTART:20250309T070000
END:DAYLIGHT
BEGIN:STANDARD
TZOFFSETFROM:-0400
TZOFFSETTO:-0500
TZNAME:EST
DTSTART:20251102T060000
END:STANDARD
END:VTIMEZONE
BEGIN:VEVENT
DTSTART;TZID=America/New_York:20241012T083000
DTEND;TZID=America/New_York:20241012T170000
DTSTAMP:20260420T062613
CREATED:20240603T005259Z
LAST-MODIFIED:20240603T005259Z
UID:22561-1728721800-1728752400@www.scgen.org
SUMMARY:York County Library Genealogy & Family History Expo
DESCRIPTION:York County Library Genealogy & Family History Expo\nSaturday\, October 12\, 2024\, 8:30 a.m. – 5:00 p.m.\nCourtyard by Marriott\, Fort Mill\, S.C. (I-77 at Highway 160). \n\n13 Sessions from nationally known speakers\nExhibitors & Vendors\nGifts and Door Prizes\, including books\, DNA testing kits\, and free subscriptions to genealogy websites and software.\nDelicious catered luncheon.\nAbsolutely FREE.\n\nRegistration begins September 7\, 2024\, 803-203-9218\, yclibrary.org\, john.skardon@yclibrary.org
URL:https://www.scgen.org/event/york-county-library-genealogy-family-history-expo/
END:VEVENT
END:VCALENDAR