BEGIN:VCALENDAR
VERSION:2.0
PRODID:-//South Carolina Genealogical Society, Inc. - ECPv6.15.17//NONSGML v1.0//EN
CALSCALE:GREGORIAN
METHOD:PUBLISH
X-ORIGINAL-URL:https://www.scgen.org
X-WR-CALDESC:Events for South Carolina Genealogical Society, Inc.
REFRESH-INTERVAL;VALUE=DURATION:PT1H
X-Robots-Tag:noindex
X-PUBLISHED-TTL:PT1H
BEGIN:VTIMEZONE
TZID:America/New_York
BEGIN:DAYLIGHT
TZOFFSETFROM:-0500
TZOFFSETTO:-0400
TZNAME:EDT
DTSTART:20240310T070000
END:DAYLIGHT
BEGIN:STANDARD
TZOFFSETFROM:-0400
TZOFFSETTO:-0500
TZNAME:EST
DTSTART:20241103T060000
END:STANDARD
BEGIN:DAYLIGHT
TZOFFSETFROM:-0500
TZOFFSETTO:-0400
TZNAME:EDT
DTSTART:20250309T070000
END:DAYLIGHT
BEGIN:STANDARD
TZOFFSETFROM:-0400
TZOFFSETTO:-0500
TZNAME:EST
DTSTART:20251102T060000
END:STANDARD
BEGIN:DAYLIGHT
TZOFFSETFROM:-0500
TZOFFSETTO:-0400
TZNAME:EDT
DTSTART:20260308T070000
END:DAYLIGHT
BEGIN:STANDARD
TZOFFSETFROM:-0400
TZOFFSETTO:-0500
TZNAME:EST
DTSTART:20261101T060000
END:STANDARD
END:VTIMEZONE
BEGIN:VEVENT
DTSTART;TZID=America/New_York:20251018T080000
DTEND;TZID=America/New_York:20251018T173000
DTSTAMP:20260420T085716
CREATED:20250816T175020Z
LAST-MODIFIED:20250816T175020Z
UID:23033-1760774400-1760808600@www.scgen.org
SUMMARY:York County Library Genealogy & Family History Expo
DESCRIPTION:York County Library Genealogy & Family History Expo\nSaturday\, October 18\, 2025\nCourtyard by Marriott\, Fort Mill\, S.C.\n8:30 a.m. – 5:00 p.m.\nDownload flyer \nRegister beginning September 22 at yclibrary.org/events or email reference@yclibrary.org or john.skardon@yclibrary.org
URL:https://www.scgen.org/event/york-county-library-genealogy-family-history-expo-2/
END:VEVENT
END:VCALENDAR