BEGIN:VCALENDAR
VERSION:2.0
PRODID:-//South Carolina Genealogical Society, Inc. - ECPv6.15.17//NONSGML v1.0//EN
CALSCALE:GREGORIAN
METHOD:PUBLISH
X-ORIGINAL-URL:https://www.scgen.org
X-WR-CALDESC:Events for South Carolina Genealogical Society, Inc.
REFRESH-INTERVAL;VALUE=DURATION:PT1H
X-Robots-Tag:noindex
X-PUBLISHED-TTL:PT1H
BEGIN:VTIMEZONE
TZID:America/New_York
BEGIN:DAYLIGHT
TZOFFSETFROM:-0500
TZOFFSETTO:-0400
TZNAME:EDT
DTSTART:20240310T070000
END:DAYLIGHT
BEGIN:STANDARD
TZOFFSETFROM:-0400
TZOFFSETTO:-0500
TZNAME:EST
DTSTART:20241103T060000
END:STANDARD
BEGIN:DAYLIGHT
TZOFFSETFROM:-0500
TZOFFSETTO:-0400
TZNAME:EDT
DTSTART:20250309T070000
END:DAYLIGHT
BEGIN:STANDARD
TZOFFSETFROM:-0400
TZOFFSETTO:-0500
TZNAME:EST
DTSTART:20251102T060000
END:STANDARD
BEGIN:DAYLIGHT
TZOFFSETFROM:-0500
TZOFFSETTO:-0400
TZNAME:EDT
DTSTART:20260308T070000
END:DAYLIGHT
BEGIN:STANDARD
TZOFFSETFROM:-0400
TZOFFSETTO:-0500
TZNAME:EST
DTSTART:20261101T060000
END:STANDARD
END:VTIMEZONE
BEGIN:VEVENT
DTSTART;TZID=America/New_York:20251108T100000
DTEND;TZID=America/New_York:20251108T100000
DTSTAMP:20260420T124005
CREATED:20251011T233338Z
LAST-MODIFIED:20251011T233505Z
UID:23067-1762596000-1762596000@www.scgen.org
SUMMARY:SCGS Board Meeting and Annual Meeting - CHANGE
DESCRIPTION:Dear Board Members\, \nDue to a scheduling conflict the meetings of the SCGS Board Meeting and Annual Meeting have been changed to NOVEMBER 8\, 2025 at 10 AM in the Wachovia Room at the SC Archives.  The Annual Meeting will be held that afternoon at 1:15 PM in the same room.
URL:https://www.scgen.org/event/scgs-board-meeting-and-annual-meeting-change/
LOCATION:South Carolina Department of Archives and History\, 8301 Parklane Road\, Columbia\, SC\, 29223\, United States
END:VEVENT
END:VCALENDAR