BEGIN:VCALENDAR
VERSION:2.0
PRODID:-//South Carolina Genealogical Society, Inc. - ECPv6.15.17//NONSGML v1.0//EN
CALSCALE:GREGORIAN
METHOD:PUBLISH
X-ORIGINAL-URL:https://www.scgen.org
X-WR-CALDESC:Events for South Carolina Genealogical Society, Inc.
REFRESH-INTERVAL;VALUE=DURATION:PT1H
X-Robots-Tag:noindex
X-PUBLISHED-TTL:PT1H
BEGIN:VTIMEZONE
TZID:America/New_York
BEGIN:DAYLIGHT
TZOFFSETFROM:-0500
TZOFFSETTO:-0400
TZNAME:EDT
DTSTART:20240310T070000
END:DAYLIGHT
BEGIN:STANDARD
TZOFFSETFROM:-0400
TZOFFSETTO:-0500
TZNAME:EST
DTSTART:20241103T060000
END:STANDARD
BEGIN:DAYLIGHT
TZOFFSETFROM:-0500
TZOFFSETTO:-0400
TZNAME:EDT
DTSTART:20250309T070000
END:DAYLIGHT
BEGIN:STANDARD
TZOFFSETFROM:-0400
TZOFFSETTO:-0500
TZNAME:EST
DTSTART:20251102T060000
END:STANDARD
BEGIN:DAYLIGHT
TZOFFSETFROM:-0500
TZOFFSETTO:-0400
TZNAME:EDT
DTSTART:20260308T070000
END:DAYLIGHT
BEGIN:STANDARD
TZOFFSETFROM:-0400
TZOFFSETTO:-0500
TZNAME:EST
DTSTART:20261101T060000
END:STANDARD
END:VTIMEZONE
BEGIN:VEVENT
DTSTART;TZID=America/New_York:20250927T100000
DTEND;TZID=America/New_York:20250927T130000
DTSTAMP:20260420T063254
CREATED:20250825T110750Z
LAST-MODIFIED:20250827T160535Z
UID:23044-1758967200-1758978000@www.scgen.org
SUMMARY:LDS Church/ACGS Expo
DESCRIPTION:Mini Expo to display the Genealogy resources available at both the Church and at the Anderson County Genealogy Chapter’s Research Library. \nLocation\nThe Church of Jesus Christ of Latter-day Saints\, 412 Harden Rd\, Anderson\, SC 29621\, USA\nView map \nOrganizer\nShirley Phillips\nacgsresearch@gmail.com
URL:https://www.scgen.org/event/lds-church-acgs-expo/
END:VEVENT
END:VCALENDAR